BEGIN:VCALENDAR
VERSION:2.0
PRODID:-//AudioTheme 1.8.2
BEGIN:VEVENT
UID:http://stango.ru/?post_type=audiotheme_gig&#038;p=3229
URL:http://stango.ru/shows/%d0%b1%d0%b0%d0%ba%d1%83/
DTSTART;VALUE=DATE:20191117
SUMMARY:Баку
DESCRIPTION:Малена
LOCATION:Баку
END:VEVENT
END:VCALENDAR