BEGIN:VCALENDAR
VERSION:2.0
PRODID:-//AudioTheme 1.8.2
BEGIN:VEVENT
UID:http://stango.ru/?post_type=audiotheme_gig&#038;p=1947
URL:http://stango.ru/shows/%d0%b1%d0%b0%d0%bb%d1%82%d0%b8%d0%bc%d0%be%d1%80/
DTSTART;VALUE=DATE:20160422
SUMMARY:Charm City Tango Marathon (USA)
DESCRIPTION:22 - 24 Charm City Tango Marathon
LOCATION:Charm City Tango Marathon (USA)\, Baltimore\, \, USA
END:VEVENT
END:VCALENDAR