BEGIN:VCALENDAR
VERSION:2.0
PRODID:-//AudioTheme 1.8.2
BEGIN:VEVENT
UID:http://stango.ru/?post_type=audiotheme_gig&#038;p=1978
URL:http://stango.ru/shows/%d0%b1%d0%b0%d1%80%d1%81%d0%b5%d0%bb%d0%be%d0%bd%d0%b0/
DTSTART;VALUE=DATE:20160528
SUMMARY:Barcelona
DESCRIPTION:Barcelona  tango meeting
LOCATION:Barcelona\, Spain
END:VEVENT
END:VCALENDAR