BEGIN:VCALENDAR
VERSION:2.0
PRODID:-//AudioTheme 1.8.2
BEGIN:VEVENT
UID:http://stango.ru/?post_type=audiotheme_gig&#038;p=1945
URL:http://stango.ru/shows/%d0%b1%d0%b5%d0%bb%d0%b3%d1%80%d0%b0%d0%b4/
DTSTART;VALUE=DATE:20160420
SUMMARY:Belgrad
DESCRIPTION:20 Belgrade Tango Encuentro
LOCATION:Belgrade\, Serbia\, Belgrade\, \, Serbia
END:VEVENT
END:VCALENDAR