BEGIN:VCALENDAR
VERSION:2.0
PRODID:-//AudioTheme 1.8.2
BEGIN:VEVENT
UID:http://stango.ru/?post_type=audiotheme_gig&#038;p=2597
URL:http://stango.ru/shows/%d0%b3%d0%b0%d0%bb%d0%b0-%d0%ba%d0%be%d0%bd%d1%86%d0%b5%d1%80%d1%82-moscow-tango-holidays/
DTSTART;TZID=GMT:20170109T160000
SUMMARY:Гала-Концерт "Moscow Tango Holidays"
DESCRIPTION:Гала-концерт IV международного фестиваля "Moscow Tango Holidays"
LOCATION:Moscow Music hall\, Каланчевская ул.\, 33/12с2\, Moscow \, \, Russia \, 129090
END:VEVENT
END:VCALENDAR