BEGIN:VCALENDAR
VERSION:2.0
PRODID:-//AudioTheme 1.8.2
BEGIN:VEVENT
UID:http://stango.ru/?post_type=audiotheme_gig&#038;p=2395
URL:http://stango.ru/shows/%d0%b4%d0%b5%d0%bd%d1%8c-%d1%80%d0%be%d0%b6%d0%b4%d0%b5%d0%bd%d0%b8%d1%8f-%d1%81%d0%be%d0%bb%d0%be-%d1%82%d0%b0%d0%bd%d0%b3%d0%be-%d0%be%d1%80%d0%ba%d0%b5%d1%81%d1%82%d1%80%d0%b0/
DTSTART;VALUE=DATE:20160817
SUMMARY:Cluj-Napoca, Romania
DESCRIPTION:5th edition of Tango Cazino  Theater concert 
LOCATION:Romania\, Cluj\, \, Romania
END:VEVENT
END:VCALENDAR