BEGIN:VCALENDAR
VERSION:2.0
PRODID:-//AudioTheme 1.8.2
BEGIN:VEVENT
UID:http://stango.ru/?post_type=audiotheme_gig&#038;p=3757
URL:http://stango.ru/shows/%d0%b4%d0%be%d0%bc-%d0%bc%d1%83%d0%b7%d1%8b%d0%ba%d0%b8-%d0%ba%d0%b0%d0%bb%d1%83%d0%b3%d0%b0/
DTSTART;VALUE=DATE:20210928
SUMMARY:Дом музыки. Калуга
LOCATION:Калуга\, Калуга\, \, Россия
END:VEVENT
END:VCALENDAR