BEGIN:VCALENDAR
VERSION:2.0
PRODID:-//AudioTheme 1.8.2
BEGIN:VEVENT
UID:http://stango.ru/?post_type=audiotheme_gig&#038;p=1943
URL:http://stango.ru/shows/%d0%b4%d1%80%d0%b5%d0%b7%d0%b4%d0%b5%d0%bd/
DTSTART;VALUE=DATE:20160414
SUMMARY:Dresden / Germany
DESCRIPTION:14\, 15  Dresden Tango festival
LOCATION:Dresden\, Germany
END:VEVENT
END:VCALENDAR