BEGIN:VCALENDAR
VERSION:2.0
PRODID:-//AudioTheme 1.8.2
BEGIN:VEVENT
UID:http://stango.ru/?post_type=audiotheme_gig&#038;p=3057
URL:http://stango.ru/shows/%d0%b5%d0%ba%d0%b0%d1%82%d0%b5%d1%80%d0%b8%d0%bd%d0%b1%d1%83%d1%80%d0%b3-3/
DTSTART;VALUE=DATE:20181223
SUMMARY:Ekaterinburg
DESCRIPTION:Концерт. Solo Tango Orquesta и  Чемпионы мира 2018 - Дмитрий  Васин & Cагдиана  Хамзина 
LOCATION:Ekaterinburg\, Ekaterinburg\, \, Russia
END:VEVENT
END:VCALENDAR