BEGIN:VCALENDAR
VERSION:2.0
PRODID:-//AudioTheme 1.8.2
BEGIN:VEVENT
UID:http://stango.ru/?post_type=audiotheme_gig&#038;p=4107
URL:http://stango.ru/shows/%d0%ba%d0%b0%d0%b7%d0%b0%d0%bd%d1%8c-3/
DTSTART;VALUE=DATE:20231214
SUMMARY:Казань
DESCRIPTION:Казанская  Филармония
END:VEVENT
END:VCALENDAR