BEGIN:VCALENDAR
VERSION:2.0
PRODID:-//AudioTheme 1.8.2
BEGIN:VEVENT
UID:http://stango.ru/?post_type=audiotheme_gig&#038;p=4113
URL:http://stango.ru/shows/%d0%ba%d0%b0%d0%b7%d0%b0%d1%85%d1%81%d1%82%d0%b0%d0%bd/
DTSTART;VALUE=DATE:20231020
SUMMARY:Kazahstan
DESCRIPTION:Казахстан
END:VEVENT
END:VCALENDAR