BEGIN:VCALENDAR
VERSION:2.0
PRODID:-//AudioTheme 1.8.2
BEGIN:VEVENT
UID:http://stango.ru/?post_type=audiotheme_gig&#038;p=1979
URL:http://stango.ru/shows/%d0%ba%d0%b8%d0%bf%d1%80/
DTSTART;VALUE=DATE:20160624
SUMMARY:Ciprus
DESCRIPTION:24 - 26 Cyprus Tango Camp  
LOCATION:Cyprus\, Cyprus
END:VEVENT
END:VCALENDAR