BEGIN:VCALENDAR
VERSION:2.0
PRODID:-//AudioTheme 1.8.2
BEGIN:VEVENT
UID:http://stango.ru/?post_type=audiotheme_gig&#038;p=4388
URL:http://stango.ru/shows/%d0%ba%d0%b8%d1%80%d0%be%d0%b2-2/
DTSTART;VALUE=DATE:20250502
SUMMARY:Киров
DESCRIPTION:Тормента танго фестиваль
LOCATION:Киров
END:VEVENT
END:VCALENDAR