BEGIN:VCALENDAR
VERSION:2.0
PRODID:-//AudioTheme 1.8.2
BEGIN:VEVENT
UID:http://stango.ru/?post_type=audiotheme_gig&#038;p=3227
URL:http://stango.ru/shows/%d0%ba%d0%b8%d1%80%d0%be%d0%b2/
DTSTART;VALUE=DATE:20191114
SUMMARY:Киров
DESCRIPTION:Малена
LOCATION:Киров
END:VEVENT
END:VCALENDAR