BEGIN:VCALENDAR
VERSION:2.0
PRODID:-//AudioTheme 1.8.2
BEGIN:VEVENT
UID:http://stango.ru/?post_type=audiotheme_gig&#038;p=4103
URL:http://stango.ru/shows/%d0%bc%d0%be%d1%81%d0%ba%d0%b2%d0%b0-%d0%b4%d0%be%d0%bc-%d0%bc%d1%83%d0%b7%d1%8b%d0%ba%d0%b8/
DTSTART;VALUE=DATE:20230619
SUMMARY:Москва, Дом Музыки
DESCRIPTION:Москва\, Дом Музыки/ Мировые звезды  аргентинского танго Фернандо РОДРИГЕС и Эстефания ГОМЕС (Аргентина) и Михаил ЕФИМОВ и Дарья ПЕЧАТНИКОВА
LOCATION:Moscow International house of Music\, Москва\, Космодамианская  набережная\, дом 52\, строение 8\, Россия\, 115054
END:VEVENT
END:VCALENDAR