BEGIN:VCALENDAR
VERSION:2.0
PRODID:-//AudioTheme 1.8.2
BEGIN:VEVENT
UID:http://stango.ru/?post_type=audiotheme_gig&#038;p=2008
URL:http://stango.ru/shows/%d0%bd%d0%b0%d0%bd%d1%82/
DTSTART;VALUE=DATE:20160507
SUMMARY:Nantes / France
LOCATION:Nantes\, Nantes\, \, France
END:VEVENT
END:VCALENDAR