BEGIN:VCALENDAR
VERSION:2.0
PRODID:-//AudioTheme 1.8.2
BEGIN:VEVENT
UID:http://stango.ru/?post_type=audiotheme_gig&#038;p=4110
URL:http://stango.ru/shows/%d0%bd%d0%b8%d0%b6%d0%bd%d0%b8%d0%b9-%d0%bd%d0%be%d0%b2%d0%be%d0%b3%d0%be%d1%80%d0%be%d0%b4-2/
DTSTART;VALUE=DATE:20230805
SUMMARY:Москва
DESCRIPTION:Vamos  milonga
END:VEVENT
END:VCALENDAR