BEGIN:VCALENDAR
VERSION:2.0
PRODID:-//AudioTheme 1.8.2
BEGIN:VEVENT
UID:http://stango.ru/?post_type=audiotheme_gig&#038;p=3175
URL:http://stango.ru/shows/%d0%bf%d0%be%d0%b2%d0%be%d0%bb%d0%be%d0%bb%d0%b6%d1%8c%d0%b5-%d1%80%d0%be%d1%81%d1%81%d0%b8%d1%8f/
DTSTART;VALUE=DATE:20191212
SUMMARY:Тольятти, Россия
DESCRIPTION:12-15 тур по Поволжью 
LOCATION:Тольятти
END:VEVENT
END:VCALENDAR