BEGIN:VCALENDAR
VERSION:2.0
PRODID:-//AudioTheme 1.8.2
BEGIN:VEVENT
UID:http://stango.ru/?post_type=audiotheme_gig&#038;p=4104
URL:http://stango.ru/shows/%d1%81%d0%b0%d0%bc%d0%b0%d1%80%d0%b0-2/
DTSTART;VALUE=DATE:20231212
SUMMARY:Самара
DESCRIPTION:Самарская Филармония
END:VEVENT
END:VCALENDAR