BEGIN:VCALENDAR
VERSION:2.0
PRODID:-//AudioTheme 1.8.2
BEGIN:VEVENT
UID:http://stango.ru/?post_type=audiotheme_gig&#038;p=4394
URL:http://stango.ru/shows/%d1%81%d1%83%d0%b7%d0%b4%d0%b0%d0%bb%d1%8c/
DTSTART;VALUE=DATE:20250606
SUMMARY:Суздаль
DESCRIPTION:Музыкальная экспедиция 
LOCATION:Суздаль\, Россия
END:VEVENT
END:VCALENDAR