BEGIN:VCALENDAR
VERSION:2.0
PRODID:-//AudioTheme 1.8.2
BEGIN:VEVENT
UID:http://stango.ru/?post_type=audiotheme_gig&#038;p=4312
URL:http://stango.ru/shows/%d1%82%d0%b0%d0%bd%d0%b3%d0%be-%d0%b1%d0%b0%d0%bb/
DTSTART;VALUE=DATE:20241208
SUMMARY:ТАНГО БАЛ
DESCRIPTION:Galla  Dance tango ball 
LOCATION:Москва\, Россия
END:VEVENT
END:VCALENDAR