BEGIN:VCALENDAR
VERSION:2.0
PRODID:-//AudioTheme 1.8.2
BEGIN:VEVENT
UID:http://stango.ru/?post_type=audiotheme_gig&#038;p=4387
URL:http://stango.ru/shows/%d1%82%d0%b0%d0%bd%d0%b3%d0%be-%d0%b1%d0%b5%d0%bb%d1%8b%d1%85-%d0%bd%d0%be%d1%87%d0%b5%d0%b9/
DTSTART;VALUE=DATE:20250613
SUMMARY:Танго Белых Ночей
DESCRIPTION:Фестиваль Танго Белых Ночей
LOCATION:Санкт-Петербург\, Россия
END:VEVENT
END:VCALENDAR