BEGIN:VCALENDAR
VERSION:2.0
PRODID:-//AudioTheme 1.8.2
BEGIN:VEVENT
UID:http://stango.ru/?post_type=audiotheme_gig&#038;p=4106
URL:http://stango.ru/shows/%d1%82%d0%be%d0%bb%d1%8c%d1%8f%d1%82%d1%82%d0%b8/
DTSTART;VALUE=DATE:20231213
SUMMARY:Тольятти
DESCRIPTION:Тольяттинская Филармония
END:VEVENT
END:VCALENDAR