BEGIN:VCALENDAR
VERSION:2.0
PRODID:-//AudioTheme 1.8.2
BEGIN:VEVENT
UID:http://stango.ru/?post_type=audiotheme_gig&#038;p=4337
URL:http://stango.ru/shows/%d1%8f%d0%ba%d1%83%d1%82%d1%81%d0%ba-2/
DTSTART;VALUE=DATE:20241128
SUMMARY:Якутск
LOCATION:Якутск\, Россия
END:VEVENT
END:VCALENDAR