BEGIN:VCALENDAR
VERSION:2.0
PRODID:-//AudioTheme 1.8.2
BEGIN:VEVENT
UID:http://stango.ru/?post_type=audiotheme_gig&#038;p=4335
URL:http://stango.ru/shows/%d1%8f%d0%ba%d1%83%d1%82%d1%81%d0%ba/
DTSTART;VALUE=DATE:
SUMMARY:Якутск
DESCRIPTION:Концерт в Якутской  филармонии
LOCATION:Якутск\, Россия
END:VEVENT
END:VCALENDAR