BEGIN:VCALENDAR
VERSION:2.0
PRODID:-//AudioTheme 1.8.2
BEGIN:VEVENT
UID:http://stango.ru/?post_type=audiotheme_gig&#038;p=2527
URL:http://stango.ru/shows/2016-12-22/
DTSTART;VALUE=DATE:20161222
SUMMARY:БКЗ Октябрьский  Санкт-Петербург
LOCATION:Санкт-Петербург\, Россия
END:VEVENT
END:VCALENDAR