BEGIN:VCALENDAR
VERSION:2.0
PRODID:-//AudioTheme 1.8.2
BEGIN:VEVENT
UID:http://stango.ru/?post_type=audiotheme_gig&#038;p=4506
URL:http://stango.ru/shows/ankara/
DTSTART;VALUE=DATE:20260509
SUMMARY:Ankara
DESCRIPTION:Ankara Tango Festival
LOCATION:Ankara
END:VEVENT
END:VCALENDAR