BEGIN:VCALENDAR
VERSION:2.0
PRODID:-//AudioTheme 1.8.2
BEGIN:VEVENT
UID:http://stango.ru/?post_type=audiotheme_gig&#038;p=4302
URL:http://stango.ru/shows/athens-2/
DTSTART;VALUE=DATE:20241103
SUMMARY:Athens
DESCRIPTION:Milonga  at TangoHome
LOCATION:Athens\, Greece
END:VEVENT
END:VCALENDAR