BEGIN:VCALENDAR
VERSION:2.0
PRODID:-//AudioTheme 1.8.2
BEGIN:VEVENT
UID:http://stango.ru/?post_type=audiotheme_gig&#038;p=2645
URL:http://stango.ru/shows/bali/
DTSTART;VALUE=DATE:20171128
SUMMARY:Bali
DESCRIPTION:28.11.2017 -3.12.2017
LOCATION:Bali\, Bali
END:VEVENT
END:VCALENDAR