BEGIN:VCALENDAR
VERSION:2.0
PRODID:-//AudioTheme 1.8.2
BEGIN:VEVENT
UID:http://stango.ru/?post_type=audiotheme_gig&#038;p=2605
URL:http://stango.ru/shows/belgrad/
DTSTART;TZID=GMT:20170418T000000
SUMMARY:Belgrad
DESCRIPTION:18-19 april Belgrad Tango Festival
LOCATION:Belgrade\, Serbia\, Belgrade\, \, Serbia
END:VEVENT
END:VCALENDAR