BEGIN:VCALENDAR
VERSION:2.0
PRODID:-//AudioTheme 1.8.2
BEGIN:VEVENT
UID:http://stango.ru/?post_type=audiotheme_gig&#038;p=4419
URL:http://stango.ru/shows/beunos-aires/
DTSTART;VALUE=DATE:20250828
SUMMARY:BUENOS AIRES
DESCRIPTION:Maldita Milonga 
LOCATION:BUENOS AIRES\, Argentina
END:VEVENT
END:VCALENDAR