BEGIN:VCALENDAR
VERSION:2.0
PRODID:-//AudioTheme 1.8.2
BEGIN:VEVENT
UID:http://stango.ru/?post_type=audiotheme_gig&#038;p=3335
URL:http://stango.ru/shows/bologna-2/
DTSTART;VALUE=DATE:20191221
SUMMARY:Bologna
LOCATION:Bologna\, Italy
END:VEVENT
END:VCALENDAR