BEGIN:VCALENDAR
VERSION:2.0
PRODID:-//AudioTheme 1.8.2
BEGIN:VEVENT
UID:http://stango.ru/?post_type=audiotheme_gig&#038;p=2892
URL:http://stango.ru/shows/bologna-italy/
DTSTART;VALUE=DATE:20171228
SUMMARY:Bologna (Italy)
DESCRIPTION:Bologna (Italy)
LOCATION:Bologna\, Italy
END:VEVENT
END:VCALENDAR