BEGIN:VCALENDAR
VERSION:2.0
PRODID:-//AudioTheme 1.8.2
BEGIN:VEVENT
UID:http://stango.ru/?post_type=audiotheme_gig&#038;p=2587
URL:http://stango.ru/shows/booked-by-france/
DTSTART;VALUE=DATE:20170708
SUMMARY:Porec tango festival
DESCRIPTION:Mediterranean Summer Tango Festival in Porec
LOCATION:Mediterranean Summer Tango Festival\, Porec\, \, Croatia
END:VEVENT
END:VCALENDAR