BEGIN:VCALENDAR
VERSION:2.0
PRODID:-//AudioTheme 1.8.2
BEGIN:VEVENT
UID:http://stango.ru/?post_type=audiotheme_gig&#038;p=2303
URL:http://stango.ru/shows/booked-moscow-ball/
DTSTART;VALUE=DATE:20160521
SUMMARY:Wiener Moscow Ball
LOCATION:Moscow\, Moscow \, \, Russia
END:VEVENT
END:VCALENDAR