BEGIN:VCALENDAR
VERSION:2.0
PRODID:-//AudioTheme 1.8.2
BEGIN:VEVENT
UID:http://stango.ru/?post_type=audiotheme_gig&#038;p=1976
URL:http://stango.ru/shows/bookted/
DTSTART;VALUE=DATE:20160429
SUMMARY:Brussels Tango Festival
DESCRIPTION:29\, 30 Brussels Tango Festival
LOCATION:Brussels\, Brussels\, \, Belgium
END:VEVENT
END:VCALENDAR