BEGIN:VCALENDAR
VERSION:2.0
PRODID:-//AudioTheme 1.8.2
BEGIN:VEVENT
UID:http://stango.ru/?post_type=audiotheme_gig&#038;p=2385
URL:http://stango.ru/shows/brussel-tango-festival/
DTSTART;VALUE=DATE:20160430
SUMMARY:Brussel Tango Festival
LOCATION:Brussels\, Brussels\, \, Belgium
END:VEVENT
END:VCALENDAR