BEGIN:VCALENDAR
VERSION:2.0
PRODID:-//AudioTheme 1.8.2
BEGIN:VEVENT
UID:http://stango.ru/?post_type=audiotheme_gig&#038;p=4405
URL:http://stango.ru/shows/buenos-aires-2/
DTSTART;VALUE=DATE:20250821
SUMMARY:BUENOS AIRES
DESCRIPTION:USINA DEL ARTE - MUNDIAL FESTIVAL DE TANGO 2025
LOCATION:BUENOS AIRES\, Argentina
END:VEVENT
END:VCALENDAR