BEGIN:VCALENDAR
VERSION:2.0
PRODID:-//AudioTheme 1.8.2
BEGIN:VEVENT
UID:http://stango.ru/?post_type=audiotheme_gig&#038;p=4406
URL:http://stango.ru/shows/buenos-aires-3/
DTSTART;VALUE=DATE:20250822
SUMMARY:BUENOS AIRES
DESCRIPTION:LA BALDOSA MILONGA
LOCATION:BUENOS AIRES\, Argentina
END:VEVENT
END:VCALENDAR