BEGIN:VCALENDAR
VERSION:2.0
PRODID:-//AudioTheme 1.8.2
BEGIN:VEVENT
UID:http://stango.ru/?post_type=audiotheme_gig&#038;p=4409
URL:http://stango.ru/shows/buenos-aires-4/
DTSTART;VALUE=DATE:20250823
SUMMARY:BUENOS AIRES
DESCRIPTION:LA COMEDIA  TANGO ( Milonga by Gaston Torelli)
LOCATION:BUENOS AIRES\, Argentina
END:VEVENT
END:VCALENDAR