BEGIN:VCALENDAR
VERSION:2.0
PRODID:-//AudioTheme 1.8.2
BEGIN:VEVENT
UID:http://stango.ru/?post_type=audiotheme_gig&#038;p=2364
URL:http://stango.ru/shows/charm-city-tango-marathon-usa-2/
DTSTART;VALUE=DATE:20160424
SUMMARY:Charm City Tango Marathon (USA)
DESCRIPTION:Baltimore 
LOCATION:Charm City Tango Marathon (USA)\, Baltimore\, \, USA
END:VEVENT
END:VCALENDAR