BEGIN:VCALENDAR
VERSION:2.0
PRODID:-//AudioTheme 1.8.2
BEGIN:VEVENT
UID:http://stango.ru/?post_type=audiotheme_gig&#038;p=4415
URL:http://stango.ru/shows/china-2/
DTSTART;VALUE=DATE:20251109
SUMMARY:CHINA
LOCATION:Hangzhou\, China
END:VEVENT
END:VCALENDAR