BEGIN:VCALENDAR
VERSION:2.0
PRODID:-//AudioTheme 1.8.2
BEGIN:VEVENT
UID:http://stango.ru/?post_type=audiotheme_gig&#038;p=3722
URL:http://stango.ru/shows/concert-2/
DTSTART;VALUE=DATE:20211028
SUMMARY:Concert "Tango Evolucion"
DESCRIPTION:Концерт Solo Tango orquesta в Московском Международном Доме Музыки 
LOCATION:Moscow International house of Music\, Москва\, Космодамианская  набережная\, дом 52\, строение 8\, Россия\, 115054
END:VEVENT
END:VCALENDAR