BEGIN:VCALENDAR
VERSION:2.0
PRODID:-//AudioTheme 1.8.2
BEGIN:VEVENT
UID:http://stango.ru/?post_type=audiotheme_gig&#038;p=3457
URL:http://stango.ru/shows/digital-workshop-tango-music-part-i/
DTSTART;VALUE=DATE:20200608
SUMMARY:Digital workshop "Tango Music part I"
DESCRIPTION:Digital workshop "Tango Music part I" for  DANCERS   (на  русском языке) 
LOCATION:Zoom
END:VEVENT
END:VCALENDAR