BEGIN:VCALENDAR
VERSION:2.0
PRODID:-//AudioTheme 1.8.2
BEGIN:VEVENT
UID:http://stango.ru/?post_type=audiotheme_gig&#038;p=3801
URL:http://stango.ru/shows/digital-workshop/
DTSTART;VALUE=DATE:20211105
SUMMARY:Digital workshop
DESCRIPTION:Авторский\, интерактивный digital  workshop от Александра  Рязанова посвящен  величайшим  танго скрипачам 20 века
LOCATION:Zoom
END:VEVENT
END:VCALENDAR