BEGIN:VCALENDAR
VERSION:2.0
PRODID:-//AudioTheme 1.8.2
BEGIN:VEVENT
UID:http://stango.ru/?post_type=audiotheme_gig&#038;p=2706
URL:http://stango.ru/shows/dresden-2/
DTSTART;VALUE=DATE:20180412
SUMMARY:Dresden
LOCATION:Dresden\, Germany
END:VEVENT
END:VCALENDAR