BEGIN:VCALENDAR
VERSION:2.0
PRODID:-//AudioTheme 1.8.2
BEGIN:VEVENT
UID:http://stango.ru/?post_type=audiotheme_gig&#038;p=3058
URL:http://stango.ru/shows/ekaterinburg/
DTSTART;VALUE=DATE:20181224
SUMMARY:Ekaterinburg
DESCRIPTION:Концерт. Solo Tango Orquesta и  Чемпионы мира 2018 - Дмитрий  Васин & Cагдиана  Хамзина 
LOCATION:Ekaterinburg\, Ekaterinburg\, \, Russia
END:VEVENT
END:VCALENDAR