BEGIN:VCALENDAR
VERSION:2.0
PRODID:-//AudioTheme 1.8.2
BEGIN:VEVENT
UID:http://stango.ru/?post_type=audiotheme_gig&#038;p=4294
URL:http://stango.ru/shows/florence-2/
DTSTART;VALUE=DATE:20241031
SUMMARY:Florence
DESCRIPTION:Solo Tango TRIO 
LOCATION:Florence\, Italy
END:VEVENT
END:VCALENDAR