BEGIN:VCALENDAR
VERSION:2.0
PRODID:-//AudioTheme 1.8.2
BEGIN:VEVENT
UID:http://stango.ru/?post_type=audiotheme_gig&#038;p=3288
URL:http://stango.ru/shows/florence/
DTSTART;VALUE=DATE:20190920
SUMMARY:Florence
DESCRIPTION:Milonga   Chino Laborde & Solo Tango Orquesta 
LOCATION:Florence\, Italy
END:VEVENT
END:VCALENDAR