BEGIN:VCALENDAR
VERSION:2.0
PRODID:-//AudioTheme 1.8.2
BEGIN:VEVENT
UID:http://stango.ru/?post_type=audiotheme_gig&#038;p=3724
URL:http://stango.ru/shows/for-international-day-of-tango-2/
DTSTART;VALUE=DATE:20211211
SUMMARY:Moscow
DESCRIPTION:For  International day of  Tango 
LOCATION:Moscow\, Moscow \, \, Russia
END:VEVENT
END:VCALENDAR